BEGIN:VCALENDAR
VERSION:2.0
PRODID:-//plattepeergroup.org//NONSGML kigkonsult.se iCalcreator 2.30.10//
CALSCALE:GREGORIAN
METHOD:PUBLISH
UID:4c577615-0eda-44e3-99ae-6734230c0127
X-WR-CALDESC:Early giving for Go Big Give starts on April 20th!
X-WR-RELCALID:58298cfb6aad20814332ce1cc614407c
X-WR-TIMEZONE:America/Chicago
BEGIN:VTIMEZONE
TZID:America/Chicago
BEGIN:STANDARD
TZNAME:CST
DTSTART:20211107T020000
TZOFFSETFROM:-0500
TZOFFSETTO:-0600
RDATE:20221106T020000
END:STANDARD
BEGIN:DAYLIGHT
TZNAME:CDT
DTSTART:20220313T020000
TZOFFSETFROM:-0600
TZOFFSETTO:-0500
RDATE:20230312T020000
END:DAYLIGHT
END:VTIMEZONE
BEGIN:VEVENT
UID:39f763d6-c160-4392-82bc-2c0bea763a5e
DTSTAMP:20260421T130439Z
DESCRIPTION:Early giving for Go Big Give starts on April 20th!
DTSTART;TZID=America/Chicago:20220420T000000
DTEND;TZID=America/Chicago:20220504T235900
LOCATION:
SUMMARY:Early Giving Go Big Give!
END:VEVENT
END:VCALENDAR
