BEGIN:VCALENDAR
VERSION:2.0
PRODID:-//plattepeergroup.org//NONSGML kigkonsult.se iCalcreator 2.30.10//
CALSCALE:GREGORIAN
METHOD:PUBLISH
UID:3be7b35b-0053-4560-8793-87848298e569
X-WR-CALDESC:We are getting 75 shrubs to be planted at the park\, we could 
 use all the help we can get!
X-WR-RELCALID:ef16584ba8a0ec1b94b1ca73a87cfd32
X-WR-TIMEZONE:America/Chicago
BEGIN:VTIMEZONE
TZID:America/Chicago
BEGIN:STANDARD
TZNAME:CST
DTSTART:20211107T020000
TZOFFSETFROM:-0500
TZOFFSETTO:-0600
RDATE:20221106T020000
END:STANDARD
BEGIN:DAYLIGHT
TZNAME:CDT
DTSTART:20220313T020000
TZOFFSETFROM:-0600
TZOFFSETTO:-0500
RDATE:20230312T020000
END:DAYLIGHT
END:VTIMEZONE
BEGIN:VEVENT
UID:d491db95-483c-4cef-8fd0-8bc00761f918
DTSTAMP:20260421T143233Z
DESCRIPTION:We are getting 75 shrubs to be planted at the park\, we could u
 se all the help we can get!
DTSTART;TZID=America/Chicago:20220421T160000
DTEND;TZID=America/Chicago:20220421T180000
LOCATION:898 Bader Park Rd\, Chapman NE 68827
SUMMARY:Shrub Planting!
END:VEVENT
END:VCALENDAR
