BEGIN:VCALENDAR
VERSION:2.0
PRODID:-//plattepeergroup.org//NONSGML kigkonsult.se iCalcreator 2.30.10//
CALSCALE:GREGORIAN
METHOD:PUBLISH
UID:d051ba8e-8686-4f16-9162-ae849593699c
X-WR-CALDESC:In honor of Memorial Day\, we are waving the day pass fee for 
 all veterans. Come out and get some fresh air! \n\n*State fishing licenses
  are still required for fishing*
X-WR-RELCALID:fee2dbf62363c3c9f9c1cdc28ce75714
X-WR-TIMEZONE:America/Chicago
BEGIN:VTIMEZONE
TZID:America/Chicago
BEGIN:STANDARD
TZNAME:CST
DTSTART:20211107T020000
TZOFFSETFROM:-0500
TZOFFSETTO:-0600
RDATE:20221106T020000
RDATE:20231105T020000
END:STANDARD
BEGIN:DAYLIGHT
TZNAME:CDT
DTSTART:20220313T020000
TZOFFSETFROM:-0600
TZOFFSETTO:-0500
RDATE:20230312T020000
END:DAYLIGHT
END:VTIMEZONE
BEGIN:VEVENT
UID:05db5d3e-ae7e-44cd-be8b-95382160a7e7
DTSTAMP:20260421T131038Z
DESCRIPTION:In honor of Memorial Day\, we are waving the day pass fee for a
 ll veterans. Come out and get some fresh air! \n\n*State fishing licenses 
 are still required for fishing*
DTSTART;TZID=America/Chicago:20220530T000000
DTEND;TZID=America/Chicago:20220530T235900
LOCATION:898 Bader Park Rd\, Chapman\, NE 68827
SUMMARY:Vets get in free!
END:VEVENT
END:VCALENDAR
