BEGIN:VCALENDAR
VERSION:2.0
PRODID:-//plattepeergroup.org//NONSGML kigkonsult.se iCalcreator 2.30.10//
CALSCALE:GREGORIAN
METHOD:PUBLISH
UID:b35a0ba2-3b28-4088-b192-f0b728ed2384
X-WR-CALDESC:Happy 4th! We will have camping games set up near the beach al
 l day\, and for people who are camping\, we will have a fireworks show at 
 10 pm on the beach! Bring your camping chairs!\n\n*Fireworks are depending
  on the current weather conditions and approval from the county*\n\n*No fi
 reworks or firecrackers are allowed in the park*\n
X-WR-RELCALID:1883243a1709b1369053b3cffd835202
X-WR-TIMEZONE:America/Chicago
BEGIN:VTIMEZONE
TZID:America/Chicago
BEGIN:STANDARD
TZNAME:CST
DTSTART:20211107T020000
TZOFFSETFROM:-0500
TZOFFSETTO:-0600
RDATE:20221106T020000
RDATE:20231105T020000
END:STANDARD
BEGIN:DAYLIGHT
TZNAME:CDT
DTSTART:20220313T020000
TZOFFSETFROM:-0600
TZOFFSETTO:-0500
RDATE:20230312T020000
END:DAYLIGHT
END:VTIMEZONE
BEGIN:VEVENT
UID:a8bc50e7-0b29-4230-b80d-c0ddf56df779
DTSTAMP:20260421T101259Z
DESCRIPTION:Happy 4th! We will have camping games set up near the beach all
  day\, and for people who are camping\, we will have a fireworks show at 1
 0 pm on the beach! Bring your camping chairs!\n\n*Fireworks are depending 
 on the current weather conditions and approval from the county*\n\n*No fir
 eworks or firecrackers are allowed in the park*\n
DTSTART;TZID=America/Chicago:20220702T220000
DTEND;TZID=America/Chicago:20220702T230000
LOCATION:898 Bader Park Rd\, Chapman\, NE 68827 US
SUMMARY:4th of July Celebration!
END:VEVENT
END:VCALENDAR
