BEGIN:VCALENDAR
VERSION:2.0
PRODID:-//plattepeergroup.org//NONSGML kigkonsult.se iCalcreator 2.30.10//
CALSCALE:GREGORIAN
METHOD:PUBLISH
UID:5485902c-5ce0-4a49-a289-d3435365e7c3
X-WR-CALDESC:Starts at Trail Head 'A' near the Central City Activity Center
 \nMeet up and ride as far as you want and turn around or go the full way t
 o Marquette and back!\nEat at El Agave\, Prairie Creek Vinyards or Scotty'
 s in Central City\nNeed to borrow a bike - no problem! We have 10 Trail bi
 kes\, just text 308.227.8703 to reserve one.
X-WR-RELCALID:1ad2b3c4b66c09d58bbe847fe53cc5c6
X-WR-TIMEZONE:America/Chicago
BEGIN:VTIMEZONE
TZID:America/Chicago
BEGIN:STANDARD
TZNAME:CST
DTSTART:20211107T020000
TZOFFSETFROM:-0500
TZOFFSETTO:-0600
RDATE:20221106T020000
RDATE:20231105T020000
END:STANDARD
BEGIN:DAYLIGHT
TZNAME:CDT
DTSTART:20220313T020000
TZOFFSETFROM:-0600
TZOFFSETTO:-0500
RDATE:20230312T020000
END:DAYLIGHT
END:VTIMEZONE
BEGIN:VEVENT
UID:71050537-f54d-4884-8e98-371692c20880
DTSTAMP:20260421T102042Z
DESCRIPTION:Starts at Trail Head 'A' near the Central City Activity Center
 \nMeet up and ride as far as you want and turn around or go the full way t
 o Marquette and back!\nEat at El Agave\, Prairie Creek Vinyards or Scotty'
 s in Central City\nNeed to borrow a bike - no problem! We have 10 Trail bi
 kes\, just text 308.227.8703 to reserve one.
DTSTART;TZID=America/Chicago:20220712T180000
DTEND;TZID=America/Chicago:20220712T200000
LOCATION:1304 16th St\, Central City\, NE 68826-1810\, United States
SUMMARY:Taco Ride
END:VEVENT
END:VCALENDAR
