BEGIN:VCALENDAR
VERSION:2.0
PRODID:-//plattepeergroup.org//NONSGML kigkonsult.se iCalcreator 2.30.10//
CALSCALE:GREGORIAN
METHOD:PUBLISH
UID:192b598f-9323-4f8e-889f-4b12b44242e3
X-WR-CALDESC:Bring out the family to enjoy a special Halloween at Bader Par
 k\nTrick-or-treat through our decorated campgrounds\, paint your provided 
 pumpkin\, purchase a meal from the Aurora Leadership Center's food truck\,
  snack on some locally made kettle corn\, get your face painted\, build yo
 ur own bear\, take a ride on the miniature train\, and vote on your favori
 te decorated camper!\n*Activities subject to change but we'll make sure it
 's a great time.\n\nAll ages are welcome to attend\n$5 a person\, children
  3 and under get in free
X-WR-RELCALID:42ee3393201cc6fa2ff8acdafbf4af26
X-WR-TIMEZONE:America/Chicago
BEGIN:VTIMEZONE
TZID:America/Chicago
BEGIN:STANDARD
TZNAME:CST
DTSTART:20231105T020000
TZOFFSETFROM:-0500
TZOFFSETTO:-0600
RDATE:20241103T020000
RDATE:20251102T020000
END:STANDARD
BEGIN:DAYLIGHT
TZNAME:CDT
DTSTART:20240310T020000
TZOFFSETFROM:-0600
TZOFFSETTO:-0500
RDATE:20250309T020000
RDATE:20260308T020000
END:DAYLIGHT
END:VTIMEZONE
BEGIN:VEVENT
UID:9d0904c3-0f1d-49cf-8fef-b5b8f857dd8f
DTSTAMP:20260420T005303Z
DESCRIPTION:Bring out the family to enjoy a special Halloween at Bader Park
 \nTrick-or-treat through our decorated campgrounds\, paint your provided p
 umpkin\, purchase a meal from the Aurora Leadership Center's food truck\, 
 snack on some locally made kettle corn\, get your face painted\, build you
 r own bear\, take a ride on the miniature train\, and vote on your favorit
 e decorated camper!\n*Activities subject to change but we'll make sure it'
 s a great time.\n\nAll ages are welcome to attend\n$5 a person\, children 
 3 and under get in free
DTSTART;TZID=America/Chicago:20241019T160000
DTEND;TZID=America/Chicago:20241019T200000
LOCATION:898 Bader Park Rd\, Chapman\, NE 68827 US
SUMMARY:Halloween!
END:VEVENT
END:VCALENDAR
